BEGIN:VCALENDAR
VERSION:2.0
PRODID:-//Keystoanew Life - ECPv6.2.3.2//NONSGML v1.0//EN
CALSCALE:GREGORIAN
METHOD:PUBLISH
X-ORIGINAL-URL:https://keystoanewlife.com
X-WR-CALDESC:Events for Keystoanew Life
REFRESH-INTERVAL;VALUE=DURATION:PT1H
X-Robots-Tag:noindex
X-PUBLISHED-TTL:PT1H
BEGIN:VTIMEZONE
TZID:UTC
BEGIN:STANDARD
TZOFFSETFROM:+0000
TZOFFSETTO:+0000
TZNAME:UTC
DTSTART:20230101T000000
END:STANDARD
END:VTIMEZONE
BEGIN:VEVENT
DTSTART;TZID=UTC:20230917T080000
DTEND;TZID=UTC:20230917T170000
DTSTAMP:20260422T113048
CREATED:20230909T102837Z
LAST-MODIFIED:20230909T104242Z
UID:10000004-1694937600-1694970000@keystoanewlife.com
SUMMARY:Saturday Meditation
DESCRIPTION:Keys To A New Life (K2ANL) provides a range of workshops\, retreats\, certificate leadership trainings and online courses for those wanting to further their development in self worthiness\, relating authentically\, intimacy & passion\, healing trauma and leadership.
URL:https://keystoanewlife.com/event/saturday-meditation-2/
LOCATION:1045 168 ST\, Surrey \, BC V3S 9R8\, 1045 168 ST \,
CATEGORIES:Meditation
ATTACH;FMTTYPE=image/jpeg:https://keystoanewlife.com/wp-content/uploads/2023/03/essence-of-flowering-jpeg-1024x1024-1.jpg
END:VEVENT
BEGIN:VEVENT
DTSTART;TZID=UTC:20230914T080000
DTEND;TZID=UTC:20230930T170000
DTSTAMP:20260422T113048
CREATED:20230913T171618Z
LAST-MODIFIED:20230913T171758Z
UID:10000007-1694678400-1696093200@keystoanewlife.com
SUMMARY:Sunday Meditation
DESCRIPTION:Keys To A New Life (K2ANL) provides a range of workshops\, retreats\, certificate leadership trainings and online courses for those wanting to further their development in self worthiness\, relating authentically\, intimacy & passion\, healing trauma and leadership.
URL:https://keystoanewlife.com/event/sunday-meditation/
LOCATION:1045 168 ST\, Surrey \, BC V3S 9R8\, 1045 168 ST \,
CATEGORIES:Meditation
ATTACH;FMTTYPE=image/jpeg:https://keystoanewlife.com/wp-content/uploads/2023/03/sss.jpg
END:VEVENT
END:VCALENDAR